BEGIN:VCALENDAR
VERSION:2.0
PRODID:-//Steveston Heritage Sites - ECPv6.0.1.1//NONSGML v1.0//EN
CALSCALE:GREGORIAN
METHOD:PUBLISH
X-ORIGINAL-URL:https://stevestonheritage.ca
X-WR-CALDESC:Events for Steveston Heritage Sites
REFRESH-INTERVAL;VALUE=DURATION:PT1H
X-Robots-Tag:noindex
X-PUBLISHED-TTL:PT1H
BEGIN:VTIMEZONE
TZID:UTC
BEGIN:STANDARD
TZOFFSETFROM:+0000
TZOFFSETTO:+0000
TZNAME:UTC
DTSTART:20240101T000000
END:STANDARD
END:VTIMEZONE
BEGIN:VEVENT
DTSTART;TZID=UTC:20241005T130000
DTEND;TZID=UTC:20241005T160000
DTSTAMP:20260420T123652
CREATED:20240921T002159Z
LAST-MODIFIED:20240921T002159Z
UID:3375-1728133200-1728144000@stevestonheritage.ca
SUMMARY:London Farm Country Fest
DESCRIPTION:An afternoon of fall harvest fun at historic London Farm. \nEnjoy scavenger hunts\, arts and crafts\, an informative chat about bees\, photo booths\, outdoor games\, and a marketplace to purchase baked goods and produce. \nLook for (schedule and program may vary): \n\nPhoto Booth\nSack Race\nScavenger Hunt\nGuess the Pumpkin Weight Game\nArt at the Farm\nWhat’s the Buzz – honey bee talk at 1:30 and 2:30\nFarmhouse Market\nFarm Fruit Sale\nBake Sale\nPlants for Sale…\n\nPresented by the London Heritage Farm Society.  \nAdmission is free!
URL:https://stevestonheritage.ca/event/london-farm-country-fest/
LOCATION:London Farm\, 6511 Dyke Road\, Richmond\, BC\, V7E 3R3\, Canada
CATEGORIES:Country Fest
ATTACH;FMTTYPE=image/png:/app/uploads/2024/09/2024-Country-Fest-social-media.png
ORGANIZER;CN="London%20Heritage%20Farm%20Society":MAILTO:londonhf@telus.net
END:VEVENT
END:VCALENDAR