BEGIN:VCALENDAR
VERSION:2.0
PRODID:-//Steveston Heritage Sites - ECPv6.0.1.1//NONSGML v1.0//EN
CALSCALE:GREGORIAN
METHOD:PUBLISH
X-ORIGINAL-URL:https://stevestonheritage.ca
X-WR-CALDESC:Events for Steveston Heritage Sites
REFRESH-INTERVAL;VALUE=DURATION:PT1H
X-Robots-Tag:noindex
X-PUBLISHED-TTL:PT1H
BEGIN:VTIMEZONE
TZID:UTC
BEGIN:STANDARD
TZOFFSETFROM:+0000
TZOFFSETTO:+0000
TZNAME:UTC
DTSTART:20240101T000000
END:STANDARD
END:VTIMEZONE
BEGIN:VEVENT
DTSTART;TZID=UTC:20250823T110000
DTEND;TZID=UTC:20250824T180000
DTSTAMP:20260419T125934
CREATED:20250224T222933Z
LAST-MODIFIED:20250224T223217Z
UID:3792-1755946800-1756058400@stevestonheritage.ca
SUMMARY:22nd Richmond Maritime Festival
DESCRIPTION:Save the date! \nRichmond’s annual celebration of local maritime heritage returns to Britannia Shipyards National Historic Site Saturday and Sunday – August 23 & 24\, 2025. \nEnjoy a weekend of cultural performances\, displays\, activities\, and demonstrations. Explore the waterfront and collection of visiting wooden boats and maritime vessels on the docks. More details to come.
URL:https://stevestonheritage.ca/event/22nd-richmond-maritime-festival/
LOCATION:Britannia Shipyards National Historic Site\, 5180 Westwater Drive\, Richmond\, BC\, V7E6P3\, Canada
CATEGORIES:Richmond Maritime Festival
ATTACH;FMTTYPE=image/jpeg:/app/uploads/2025/02/IMG_1709-scaled-e1740436143904.jpg
END:VEVENT
BEGIN:VEVENT
DTSTART;TZID=UTC:20240824T110000
DTEND;TZID=UTC:20240825T180000
DTSTAMP:20260419T125934
CREATED:20240209T232211Z
LAST-MODIFIED:20240209T232211Z
UID:2869-1724497200-1724608800@stevestonheritage.ca
SUMMARY:Richmond Maritime Festival
DESCRIPTION:The annual Richmond Maritime Festival celebrates life past and present on the Steveston waterfront. Landlubbers and nautical buffs alike will find this family-friendly event awash with fun. Enjoy  maritime-themed music\, performances\, activities\, and exhibits for a magical weekend at the Britannia Shipyards National Historic Site. 
URL:https://stevestonheritage.ca/event/richmond-maritime-festival-2/
LOCATION:Britannia Shipyards National Historic Site\, 5180 Westwater Drive\, Richmond\, BC\, V7E6P3\, Canada
CATEGORIES:Richmond Maritime Festival
ATTACH;FMTTYPE=image/jpeg:/app/uploads/2024/02/Maritime-Festival-2023-299-scaled-e1707520834998.jpg
END:VEVENT
END:VCALENDAR