BEGIN:VCALENDAR
VERSION:2.0
PRODID:-//Steveston Heritage Sites - ECPv6.0.1.1//NONSGML v1.0//EN
CALSCALE:GREGORIAN
METHOD:PUBLISH
X-WR-CALNAME:Steveston Heritage Sites
X-ORIGINAL-URL:https://stevestonheritage.ca
X-WR-CALDESC:Events for Steveston Heritage Sites
REFRESH-INTERVAL;VALUE=DURATION:PT1H
X-Robots-Tag:noindex
X-PUBLISHED-TTL:PT1H
BEGIN:VTIMEZONE
TZID:UTC
BEGIN:STANDARD
TZOFFSETFROM:+0000
TZOFFSETTO:+0000
TZNAME:UTC
DTSTART:20220101T000000
END:STANDARD
END:VTIMEZONE
BEGIN:VEVENT
DTSTART;TZID=UTC:20220807T110000
DTEND;TZID=UTC:20220807T160000
DTSTAMP:20260419T133701
CREATED:20220914T012000Z
LAST-MODIFIED:20221210T005859Z
UID:435-1659870000-1659888000@stevestonheritage.ca
SUMMARY:Family Farm Day at London Farm
DESCRIPTION:Have fun on the farm while learning about Richmond’s– specifically Steveston’s– heritage. Come join us for a day full of exciting displays and activities including rabbits from Rabbitats\, LEGO building\, seeing birds of prey from OWL\, watch lace-making and weaving\, and so much more! Musical performances throughout the day\, including nostalgic toe-tapping favourites.  \nFamily (up to 6 members): $10\nAdult: $6\nSenior: $5\nYouth (ages 11-17): $5\nChild (ages 6-10): $4\nChild (ages 0-5): FREE
URL:https://stevestonheritage.ca/event/family-farm-day-at-london-farm/
LOCATION:London Farm\, 6511 Dyke Road\, Richmond\, BC\, V7E 3R3\, Canada
ATTACH;FMTTYPE=image/jpeg:/app/uploads/2022/09/IMG_4788-scaled-e1663118326567.jpg
ORGANIZER;CN="London%20Heritage%20Farm%20Society":MAILTO:londonhf@telus.net
END:VEVENT
END:VCALENDAR