BEGIN:VCALENDAR
VERSION:2.0
PRODID:-//Steveston Heritage Sites - ECPv6.0.1.1//NONSGML v1.0//EN
CALSCALE:GREGORIAN
METHOD:PUBLISH
X-WR-CALNAME:Steveston Heritage Sites
X-ORIGINAL-URL:https://stevestonheritage.ca
X-WR-CALDESC:Events for Steveston Heritage Sites
REFRESH-INTERVAL;VALUE=DURATION:PT1H
X-Robots-Tag:noindex
X-PUBLISHED-TTL:PT1H
BEGIN:VTIMEZONE
TZID:UTC
BEGIN:STANDARD
TZOFFSETFROM:+0000
TZOFFSETTO:+0000
TZNAME:UTC
DTSTART:20240101T000000
END:STANDARD
END:VTIMEZONE
BEGIN:VEVENT
DTSTART;TZID=UTC:20240216T100000
DTEND;TZID=UTC:20240219T160000
DTSTAMP:20260419T132936
CREATED:20240117T010806Z
LAST-MODIFIED:20240214T190618Z
UID:2792-1708077600-1708358400@stevestonheritage.ca
SUMMARY:Family Day Weekend at Britannia Shipyards NHS
DESCRIPTION:Celebrate Family Day weekend with a visit to Britannia Shipyards National Historic Site in Steveston Village. Step inside the beautifully preserved heritage buildings and discover Richmond’s multicultural boatbuilding and fishing heritage. Explore the site with a fun scavenger hunt for all ages or activity booklet for the older kids (6-12 years old).  \nIn honour of the culturally diverse heritage of those who worked and lived in Steveston’s boatbuilding and fishing communities\, join us as we celebrate the Lunar New Year with crafts and activities for visitors of all ages. Visit the Chinese Bunkhouse February 10 to 25\, 10:00am – 4:00pm\, and make a festive bookmark\, learn about the Chinese zodiac\, try some calligraphy\, and more. \nAll ages \nFree
URL:https://stevestonheritage.ca/event/family-day-weekend-at-britannia-shipyards-nhs/
LOCATION:Britannia Shipyards National Historic Site\, 5180 Westwater Drive\, Richmond\, BC\, V7E6P3\, Canada
CATEGORIES:Family Day
ATTACH;FMTTYPE=image/jpeg:/app/uploads/2022/10/CityofRichmond-HeritageSites-105-scaled-e1705453616723.jpg
END:VEVENT
BEGIN:VEVENT
DTSTART;TZID=UTC:20240219T120000
DTEND;TZID=UTC:20240225T160000
DTSTAMP:20260419T132936
CREATED:20231215T215902Z
LAST-MODIFIED:20240223T051330Z
UID:2718-1708344000-1708876800@stevestonheritage.ca
SUMMARY:Heritage Week at Britannia Shipyards
DESCRIPTION:Discover history in your own backyard with a visit to the Britannia Shipyards National Historic Site this Heritage Week 2024. \nHeritage is the layering of stories that describe the uniqueness of a community’s past and present while informing the future. This year’s Heritage Week: Layer by Layer\, invites you to dig deeper into your community’s past and explore the many layers and stories that your unique community holds. Take some time this week to learn something new about the many “layers” of the place you call home. \nFrom blog posts to images and videos on our social media channels\, join us as we peel back the layers of how the boatbuilding and the fishing industry helped shape Steveston into the town it is today\, rich with culture\, community and spirit. For kids and young families\, come visit the site Tuesdays to Sundays and pick up an activity booklet to become a “Jr. Boatbuilder” or try your hand at a fun scavenger hunt to explore the heritage buildings! \nRead more: \nPart 1 – Richmond Boatbuilders \nPart 2 – Japanese Wooden Boat Building \nPart 3 – The Last Wooden Gillnetter
URL:https://stevestonheritage.ca/event/heritage-week-at-britannia-shipyards/
LOCATION:Britannia Shipyards National Historic Site\, 5180 Westwater Drive\, Richmond\, BC\, V7E6P3\, Canada
CATEGORIES:Heritage Week
ATTACH;FMTTYPE=image/png:/app/uploads/2023/12/BN-Heritage-Week-horizontal.png
END:VEVENT
END:VCALENDAR