BEGIN:VCALENDAR
VERSION:2.0
PRODID:-//Steveston Heritage Sites - ECPv6.0.1.1//NONSGML v1.0//EN
CALSCALE:GREGORIAN
METHOD:PUBLISH
X-WR-CALNAME:Steveston Heritage Sites
X-ORIGINAL-URL:https://stevestonheritage.ca
X-WR-CALDESC:Events for Steveston Heritage Sites
REFRESH-INTERVAL;VALUE=DURATION:PT1H
X-Robots-Tag:noindex
X-PUBLISHED-TTL:PT1H
BEGIN:VTIMEZONE
TZID:UTC
BEGIN:STANDARD
TZOFFSETFROM:+0000
TZOFFSETTO:+0000
TZNAME:UTC
DTSTART:20240101T000000
END:STANDARD
END:VTIMEZONE
BEGIN:VEVENT
DTSTART;TZID=UTC:20240418T193000
DTEND;TZID=UTC:20240418T203000
DTSTAMP:20260423T045730
CREATED:20240319T215706Z
LAST-MODIFIED:20240319T220347Z
UID:3050-1713468600-1713472200@stevestonheritage.ca
SUMMARY:Sahara Jane - Steveston Folk Guild Concert
DESCRIPTION:Welcome back Sahara Jane to Britannia Shipyards for an evening of music presented by the Steveston Folk Guild.  \nSahara Jane is a multi-faceted musician blending influences from Afghanistan\, Indian\, and Canadian musical styles in a unique and uplifting way. She is a vocalist\, composer and sarangi player. In her upcoming album\, Something Good\, Sahara Jane and rhythm master Ken Shorley have created a new soundscape of global electro-acoustic fusion. \nThursday April 18th doors open at 7pm \nTickets at the door $12 \n 
URL:https://stevestonheritage.ca/event/sahara-jane-steveston-folk-guild-concert/
LOCATION:Britannia Shipyards National Historic Site\, 5180 Westwater Drive\, Richmond\, BC\, V7E6P3\, Canada
CATEGORIES:Steveston Folk Guild
ATTACH;FMTTYPE=image/jpeg:/app/uploads/2024/03/Sahara-Jane-e1710885817282.jpg
END:VEVENT
END:VCALENDAR