BEGIN:VCALENDAR
VERSION:2.0
PRODID:-//Steveston Heritage Sites - ECPv6.0.1.1//NONSGML v1.0//EN
CALSCALE:GREGORIAN
METHOD:PUBLISH
X-WR-CALNAME:Steveston Heritage Sites
X-ORIGINAL-URL:https://stevestonheritage.ca
X-WR-CALDESC:Events for Steveston Heritage Sites
REFRESH-INTERVAL;VALUE=DURATION:PT1H
X-Robots-Tag:noindex
X-PUBLISHED-TTL:PT1H
BEGIN:VTIMEZONE
TZID:UTC
BEGIN:STANDARD
TZOFFSETFROM:+0000
TZOFFSETTO:+0000
TZNAME:UTC
DTSTART:20240101T000000
END:STANDARD
END:VTIMEZONE
BEGIN:VEVENT
DTSTART;TZID=UTC:20240815T190000
DTEND;TZID=UTC:20240815T210000
DTSTAMP:20260422T215550
CREATED:20240808T165832Z
LAST-MODIFIED:20240808T165832Z
UID:3298-1723748400-1723755600@stevestonheritage.ca
SUMMARY:Steveston Folk Guild - Fleetham Stevens
DESCRIPTION:Musical duo Fleetham Stevens\, consisting of Doug Fleetham and Shelley Stevens\, have a long and extensive history in the Vancouver music scene with numerous bands such as “Desperate Measures”\, “The Bent Nails”\, and the “The Honey Flowers”. Both are long time songwriters. With Doug on guitar and Shelley on guitar and banjo\, they are know for their quirky\, original harmony -laced Canadiana music.\n\n \n\nJoin us for an evening of the acoustic sounds of the Steveston Folk Guild inside the Chinese Bunkhouse at Britannia Shipyards National Historic Site.
URL:https://stevestonheritage.ca/event/steveston-folk-guild-fleetham-stevens-2/
LOCATION:Britannia Shipyards National Historic Site\, 5180 Westwater Drive\, Richmond\, BC\, V7E6P3\, Canada
CATEGORIES:Steveston Folk Guild
ATTACH;FMTTYPE=image/jpeg:/app/uploads/2024/07/fleethamstevens3-July-18.jpg
END:VEVENT
END:VCALENDAR