BEGIN:VCALENDAR
VERSION:2.0
PRODID:-//Steveston Heritage Sites - ECPv6.0.1.1//NONSGML v1.0//EN
CALSCALE:GREGORIAN
METHOD:PUBLISH
X-ORIGINAL-URL:https://stevestonheritage.ca
X-WR-CALDESC:Events for Steveston Heritage Sites
REFRESH-INTERVAL;VALUE=DURATION:PT1H
X-Robots-Tag:noindex
X-PUBLISHED-TTL:PT1H
BEGIN:VTIMEZONE
TZID:America/Vancouver
BEGIN:DAYLIGHT
TZOFFSETFROM:-0800
TZOFFSETTO:-0700
TZNAME:PDT
DTSTART:20240310T100000
END:DAYLIGHT
BEGIN:STANDARD
TZOFFSETFROM:-0700
TZOFFSETTO:-0800
TZNAME:PST
DTSTART:20241103T090000
END:STANDARD
END:VTIMEZONE
BEGIN:VEVENT
DTSTART;TZID=America/Vancouver:20240511T100000
DTEND;TZID=America/Vancouver:20240512T160000
DTSTAMP:20260425T200333
CREATED:20240223T052129Z
LAST-MODIFIED:20240410T174801Z
UID:2982-1715421600-1715529600@stevestonheritage.ca
SUMMARY:London Farm Annual Plant Sale
DESCRIPTION:London Farm’s Annual Plant Sale features a selection of annuals\, perennials and succulents in a variety of planters and containers. Support the London Farm Society with your purchases. Admission is free. \n 
URL:https://stevestonheritage.ca/event/london-farm-annual-plant-sale/
LOCATION:London Farm\, 6511 Dyke Road\, Richmond\, BC\, V7E 3R3\, Canada
ATTACH;FMTTYPE=image/png:/app/uploads/2024/02/2024-Plant-sale.png
ORGANIZER;CN="London%20Heritage%20Farm%20Society":MAILTO:londonhf@telus.net
END:VEVENT
END:VCALENDAR